BEGIN:VCALENDAR
VERSION:2.0
PRODID:-//Courir Marcher dans le Sud Touraine - ECPv6.15.16//NONSGML v1.0//EN
CALSCALE:GREGORIAN
METHOD:PUBLISH
X-ORIGINAL-URL:http://courirmarcher.fr
X-WR-CALDESC:Évènements pour Courir Marcher dans le Sud Touraine
REFRESH-INTERVAL;VALUE=DURATION:PT1H
X-Robots-Tag:noindex
X-PUBLISHED-TTL:PT1H
BEGIN:VTIMEZONE
TZID:Europe/Paris
BEGIN:DAYLIGHT
TZOFFSETFROM:+0100
TZOFFSETTO:+0200
TZNAME:CEST
DTSTART:20160327T010000
END:DAYLIGHT
BEGIN:STANDARD
TZOFFSETFROM:+0200
TZOFFSETTO:+0100
TZNAME:CET
DTSTART:20161030T010000
END:STANDARD
BEGIN:DAYLIGHT
TZOFFSETFROM:+0100
TZOFFSETTO:+0200
TZNAME:CEST
DTSTART:20170326T010000
END:DAYLIGHT
BEGIN:STANDARD
TZOFFSETFROM:+0200
TZOFFSETTO:+0100
TZNAME:CET
DTSTART:20171029T010000
END:STANDARD
BEGIN:DAYLIGHT
TZOFFSETFROM:+0100
TZOFFSETTO:+0200
TZNAME:CEST
DTSTART:20180325T010000
END:DAYLIGHT
BEGIN:STANDARD
TZOFFSETFROM:+0200
TZOFFSETTO:+0100
TZNAME:CET
DTSTART:20181028T010000
END:STANDARD
BEGIN:DAYLIGHT
TZOFFSETFROM:+0100
TZOFFSETTO:+0200
TZNAME:CEST
DTSTART:20190331T010000
END:DAYLIGHT
BEGIN:STANDARD
TZOFFSETFROM:+0200
TZOFFSETTO:+0100
TZNAME:CET
DTSTART:20191027T010000
END:STANDARD
BEGIN:DAYLIGHT
TZOFFSETFROM:+0100
TZOFFSETTO:+0200
TZNAME:CEST
DTSTART:20200329T010000
END:DAYLIGHT
BEGIN:STANDARD
TZOFFSETFROM:+0200
TZOFFSETTO:+0100
TZNAME:CET
DTSTART:20201025T010000
END:STANDARD
BEGIN:DAYLIGHT
TZOFFSETFROM:+0100
TZOFFSETTO:+0200
TZNAME:CEST
DTSTART:20210328T010000
END:DAYLIGHT
BEGIN:STANDARD
TZOFFSETFROM:+0200
TZOFFSETTO:+0100
TZNAME:CET
DTSTART:20211031T010000
END:STANDARD
BEGIN:DAYLIGHT
TZOFFSETFROM:+0100
TZOFFSETTO:+0200
TZNAME:CEST
DTSTART:20220327T010000
END:DAYLIGHT
BEGIN:STANDARD
TZOFFSETFROM:+0200
TZOFFSETTO:+0100
TZNAME:CET
DTSTART:20221030T010000
END:STANDARD
BEGIN:DAYLIGHT
TZOFFSETFROM:+0100
TZOFFSETTO:+0200
TZNAME:CEST
DTSTART:20230326T010000
END:DAYLIGHT
BEGIN:STANDARD
TZOFFSETFROM:+0200
TZOFFSETTO:+0100
TZNAME:CET
DTSTART:20231029T010000
END:STANDARD
BEGIN:DAYLIGHT
TZOFFSETFROM:+0100
TZOFFSETTO:+0200
TZNAME:CEST
DTSTART:20240331T010000
END:DAYLIGHT
BEGIN:STANDARD
TZOFFSETFROM:+0200
TZOFFSETTO:+0100
TZNAME:CET
DTSTART:20241027T010000
END:STANDARD
END:VTIMEZONE
BEGIN:VEVENT
DTSTART;VALUE=DATE:20231013
DTEND;VALUE=DATE:20231016
DTSTAMP:20260420T122943
CREATED:20230827T175111Z
LAST-MODIFIED:20230827T175111Z
UID:1404-1697155200-1697414399@courirmarcher.fr
SUMMARY:Stage 2023 à Sancerre
DESCRIPTION:Stage annuel pour les sections rando et trail à Sancerre (18).
URL:http://courirmarcher.fr/event/stage-2023-a-sancerre/
LOCATION:Sancerre\, Sancerre\, France
ORGANIZER;CN="Courir Marcher dans le Sud Touraine":MAILTO:gagneuxn@yahoo.fr
END:VEVENT
BEGIN:VEVENT
DTSTART;TZID=Europe/Paris:20230916T080000
DTEND;TZID=Europe/Paris:20230916T130000
DTSTAMP:20260420T122943
CREATED:20230827T173621Z
LAST-MODIFIED:20230827T174755Z
UID:1396-1694851200-1694869200@courirmarcher.fr
SUMMARY:16/09/2023 – BOSSAY-SUR-CLAISE – Section Randonnée
DESCRIPTION:Sortie de la section rando à Bossay-sur-Claise. Circuits 9\,6 km. \nDépart de la randonnée parking Villechaise à Bossay-sur-Claise. \n\nRavitaillement.Renseignements : 06 73 04 73 51\n\nDépart de la place de la Mairie de Chambon à 8h40 pour covoiturage ou rendez-vous sur place au parking Villechaise à Bossay à 9h.
URL:http://courirmarcher.fr/event/16-09-2023-bossay-sur-claise-section-randonnee/
LOCATION:Bossay sur Claise\, Etang de la Ribaloche\, Bossay-sur-Claise\, 37290\, France
CATEGORIES:Randonnée
ORGANIZER;CN="Courir Marcher dans le Sud Touraine":MAILTO:gagneuxn@yahoo.fr
END:VEVENT
BEGIN:VEVENT
DTSTART;TZID=Europe/Paris:20180926T080000
DTEND;TZID=Europe/Paris:20180926T170000
DTSTAMP:20260420T122943
CREATED:20180926T132301Z
LAST-MODIFIED:20180926T132321Z
UID:1232-1537948800-1537981200@courirmarcher.fr
SUMMARY:
DESCRIPTION:Samedi 29 septembre\, rando à Tournon-Saint-Martin (36). 10 ou 14 km. Au programme : la vallée de la Creuse\, le château du Coudon et Luray \nRendez-vous à 8h30 devant la mairie de Chambon pour covoiturage ou 9h sur la place de le Champ de Foire.
URL:http://courirmarcher.fr/event/1232/
CATEGORIES:Randonnée
END:VEVENT
BEGIN:VEVENT
DTSTART;TZID=Europe/Paris:20180707T190000
DTEND;TZID=Europe/Paris:20180707T230000
DTSTAMP:20260420T122943
CREATED:20180615T221423Z
LAST-MODIFIED:20180615T221424Z
UID:1122-1530990000-1531004400@courirmarcher.fr
SUMMARY:RANDO GOURMANDE YZEURES-SUR-CREUSE - 11 kms
DESCRIPTION:Randonnée de 11km\, départ à 19h00. Le repas s’égrainera au fil de la rando (apéritif\, entrée\, plat\, fromage\, dessert). Pour le respect de l’environnement\, chacun doit se munir : d’une assiette\, d’une fourchette\, d’un couteau\, d’un gobelet. Se munir d’une lampe. Réservation avant le 1er juillet. \nAdulte plein tarif à 13€\nTarif enfant à 6€ (moins de 12 ans inclus)
URL:http://courirmarcher.fr/event/rando-gourmande-yzeures-sur-creuse-11-kms/
LOCATION:Yzeures-sur-Creuse 37290\, Yzeures-sur-Creuse\, 37290\, France
CATEGORIES:Randonnée
END:VEVENT
BEGIN:VEVENT
DTSTART;TZID=Europe/Paris:20180630T090000
DTEND;TZID=Europe/Paris:20180630T120000
DTSTAMP:20260420T122943
CREATED:20180615T215723Z
LAST-MODIFIED:20180615T220511Z
UID:1116-1530349200-1530360000@courirmarcher.fr
SUMMARY:Randonnée dans la forêt de MAIRÉ - 10 et 14 kms
DESCRIPTION:Sortie de la section rando dans la fôret de MAIRE. Circuits 10 km – 14 km. \nDépart de la randonnée devant la Mairie. \n\nRavitaillement sur les 2 circuits. Renseignements : 06 73 04 73 51\n\nDépart de la place de la Mairie de Chambon à 8h45 pour covoiturage ou rendez-vous sur place à 9h.
URL:http://courirmarcher.fr/event/randonnee-dans-la-foret-de-maire-10-et-14-kms/
LOCATION:Mairé 86270\, MAIRE\, 86270
CATEGORIES:Randonnée
ORGANIZER;CN="Courir Marcher dans le Sud Touraine":MAILTO:gagneuxn@yahoo.fr
END:VEVENT
BEGIN:VEVENT
DTSTART;TZID=Europe/Paris:20180622T180000
DTEND;TZID=Europe/Paris:20180622T210000
DTSTAMP:20260420T122943
CREATED:20180615T210819Z
LAST-MODIFIED:20180615T210856Z
UID:1102-1529690400-1529701200@courirmarcher.fr
SUMMARY:Randonnée Semi-nocturne à Neuilly-le-Brignon / 3 circuits : 13.5 km\, 11.5 km et 3.7 km
DESCRIPTION:RANDONNÉE SEMI-NOCTURNE\nTerrain de loisirs\n37160 – Neuilly-le-Brignon\n23 juin 2018 : randonnée semi nocturne organisée par le comité des fêtes de Neuilly le Brignon. 3 circuits : 13.5 km\, 11.5 km et 3.7 km. vin d’honneur à l’arrivée. Possibilité de restauration sur place : barbecue. Feu de Saint Jean. RV terrain de loisirs 18h00 – départ 18h30 \nTèl : 02 47 92 30 04\nwww.neuillylebrignon.fr/
URL:http://courirmarcher.fr/event/randonnee-semi-nocturne-a-neuilly-le-brignon-3-circuits-13-5-km-11-5-km-et-3-7-km/
LOCATION:Neuilly le Bringnon\, Neuilly le Brignon\, 37160\, France
CATEGORIES:Randonnée
ORGANIZER;CN="Comit%C3%A9 des f%C3%AAtes de Neuilly le Brignon":MAILTO:mairie.neuilly.le.brignon@wanadoo.fr
END:VEVENT
BEGIN:VEVENT
DTSTART;TZID=Europe/Paris:20180526T180000
DTEND;TZID=Europe/Paris:20180526T200000
DTSTAMP:20260420T122943
CREATED:20180615T214836Z
LAST-MODIFIED:20180615T214836Z
UID:1114-1527357600-1527364800@courirmarcher.fr
SUMMARY:Assemblée Générale 2018
DESCRIPTION:Samedi 26 mai à 18h00 à Chambon aura lieu l’Assemblée Générale Ordinaire annuelle de Courir marcher dans le Sud Touraine. \nSi vous ne pouvez pas être présent merci de bien vouloir remplir ce questionnaire. Ceci nous permettra d’atteindre le Quorum nécessaire à la bonne tenue de cette Assemblée Générale. \nhttps://docs.google.com/forms/d/e/1FAIpQLSfI0NdRFO_GXexf17FoOG4JLp2XvO6fiseeWZDrQ_5oAiWJEQ/viewform \n 
URL:http://courirmarcher.fr/event/assemblee-generale-2018/
LOCATION:Chambon 37290\, lieu-dit « le Cormier »\, Chambon\, 37290\, France
CATEGORIES:Randonnée,Running
ORGANIZER;CN="Courir Marcher dans le Sud Touraine":MAILTO:gagneuxn@yahoo.fr
END:VEVENT
BEGIN:VEVENT
DTSTART;VALUE=DATE:20180511
DTEND;VALUE=DATE:20180513
DTSTAMP:20260420T122943
CREATED:20171207T113831Z
LAST-MODIFIED:20180122T154604Z
UID:365-1525996800-1526169599@courirmarcher.fr
SUMMARY:11 et 12/05/2018 – Euskal Trail à St Étienne de Baïgorry – Section Running
DESCRIPTION:L’Euskal Trail est un trail par équipe de 2 coureurs\, en 2 étapes et sur 2 jours\, qui se déroulera les vendredi 11 et samedi 12 mai 2018 à St Étienne de Baïgorry. Chacune des étapes démarrera de Urepel pour arriver à St Étienne de Baïgorry\, par 2 parcours différents d’environ 40 km pour 2280 m de dénivelé positif (et 2550 m de dénivelé négatif). \nAurore et Élodie feront équipe ensemble sur ce 2 fois 40 km.
URL:http://courirmarcher.fr/event/11-et-12-05-2018-euskal-trail-a-st-etienne-de-baigorry-section-running/
LOCATION:St Étienne de Baïgorry (64)\, Le Bourg\, St Étienne de Baïgorry\, 64430\, France
CATEGORIES:Running
ORGANIZER;CN="EUSKAL RAID ASSOCIATION":MAILTO:contact@euskalraid.fr
END:VEVENT
BEGIN:VEVENT
DTSTART;VALUE=DATE:20180421
DTEND;VALUE=DATE:20180423
DTSTAMP:20260420T122943
CREATED:20180122T155147Z
LAST-MODIFIED:20180122T155200Z
UID:438-1524268800-1524441599@courirmarcher.fr
SUMMARY:21/04/2018 – AUBRAC (12) – Trans Aubrac – Section Running
DESCRIPTION:Un trail en relais à travers l’Aubrac et l’Aveyron \n\n\n\nCette épreuve de la Trans Aubrac est une course par équipe de 4 coureurs.\nUne journée conviviale à travers la vallée de l’Aveyron\, la vallée du Lot et les plateaux de l’Aubrac. \nElle se compose de 4 étapes aux profils différents. \nDépart 6h00 de Bertholène.\nArrivée à St Geniez d’Olt. :\n\nE1 : 24.8 km d+569m d-801m\nE2 : 30.1km d+1590m d-980m\nE3 : 22.7m d+790m d-460m\nE4 : 28.4km d+710m d-1590
URL:http://courirmarcher.fr/event/21-04-2018-aubrac-12-trans-aubrac-section-running/
LOCATION:Bertholène\, Bertholène\, 12310\, France
CATEGORIES:Running
END:VEVENT
BEGIN:VEVENT
DTSTART;TZID=Europe/Paris:20180204T080000
DTEND;TZID=Europe/Paris:20180204T130000
DTSTAMP:20260420T122943
CREATED:20180122T153956Z
LAST-MODIFIED:20180122T154527Z
UID:433-1517731200-1517749200@courirmarcher.fr
SUMMARY:04/02/2018 – BOSSAY-SUR-CLAISE – Section Randonnée
DESCRIPTION:Le comité des fêtes organise la randonnée de la Saint Valentin\, au programme\, deux circuits de 8 et 12 km\, au cœur du village de Bossay. \nInscription 8 h 30 départ 9 h Place de la l’Église\, ravitaillement sur le parcours\, à l’arrivée\, assiette « Terre et Mer » à la salle des fêtes. \nTarif 5 €\, inscription préalable pour dégustation. \nRéservations ou renseignements au 02.47.94.52.44 ou 07.77.08.24.61
URL:http://courirmarcher.fr/event/04-02-2018-bossay-sur-claise-section-randonnee/
LOCATION:Bossay sur Claise\, Etang de la Ribaloche\, Bossay-sur-Claise\, 37290\, France
CATEGORIES:Randonnée
END:VEVENT
BEGIN:VEVENT
DTSTART;TZID=Europe/Paris:20180127T090000
DTEND;TZID=Europe/Paris:20180127T090000
DTSTAMP:20260420T122943
CREATED:20180122T153619Z
LAST-MODIFIED:20180122T154503Z
UID:427-1517043600-1517043600@courirmarcher.fr
SUMMARY:27/01/2018 – Forêt de Tours-Preuilly à Bossay-sur-Claise – Section Randonnée
DESCRIPTION:Sortie de la section rando à Bossay-sur-Claise. Circuits 9 km – 14 km. \nDépart de la randonnée à l’Etang de la Ribaloche. \n\nRavitaillement sur les 2 circuits. Dégustation de la galette des rois. Renseignements : 06 73 04 73 51\n\nDépart de la place de la Mairie de Chambon à 8h40 pour covoiturage ou rendez-vous sur place à l’Etang de la Ribaloche à 9h.
URL:http://courirmarcher.fr/event/27-01-2017-foret-de-tours-preuilly-a-bossay-sur-claise-section-randonnee/
LOCATION:Bossay sur Claise\, Etang de la Ribaloche\, Bossay-sur-Claise\, 37290\, France
CATEGORIES:Randonnée
ORGANIZER;CN="Courir Marcher dans le Sud Touraine":MAILTO:gagneuxn@yahoo.fr
END:VEVENT
BEGIN:VEVENT
DTSTART;TZID=Europe/Paris:20171216T080000
DTEND;TZID=Europe/Paris:20171216T140000
DTSTAMP:20260420T122943
CREATED:20171207T113305Z
LAST-MODIFIED:20171207T113305Z
UID:363-1513411200-1513432800@courirmarcher.fr
SUMMARY:16/12/2017 – CHAMBON – Section Randonnée
DESCRIPTION:Sortie de la section rando à Chambon. Circuits 9 km – 15 km. \n\nDépart à la salle des Fêtes à Chambon à 8h30 pour covoiturage.\nDépart de la randonnée au lieu-dit « le Cormier » à Chambon.\nRavitaillement sur les 2 circuits. Renseignements : 06 73 04 73 51
URL:http://courirmarcher.fr/event/16-12-2017-chambon-section-randonnee/
LOCATION:Chambon 37290\, lieu-dit « le Cormier »\, Chambon\, 37290\, France
CATEGORIES:Randonnée
ORGANIZER;CN="Courir Marcher dans le Sud Touraine":MAILTO:gagneuxn@yahoo.fr
END:VEVENT
BEGIN:VEVENT
DTSTART;TZID=Europe/Paris:20171209T083000
DTEND;TZID=Europe/Paris:20171209T083000
DTSTAMP:20260420T122943
CREATED:20171207T113036Z
LAST-MODIFIED:20171207T113036Z
UID:360-1512808200-1512808200@courirmarcher.fr
SUMMARY:09/12/2017 – Saint-Pierre-de-Maillé - Téléthon 2017
DESCRIPTION:Randonnée pédestre de 8km organisée par l’amicale des Donneurs de sang bénévoles de Saint-Pierre-de-Maillé\, samedi 9 décembre\, sur la place. Participation de 4 €. Départ à 9h.\nLes bénévoles participeront aux animations organisées en faveur du Téléthon (service du café d’accueil avant le départ de la marche et du rallye VTT\, aide au repas\, concours de belote\, crêpes\, lâcher de ballons…). Ils vous attendent nombreux et autant que vous pourrez car ils ne passeront pas chez vous en cette fin d’année pour présenter le calendrier ou autre surprise. Ils souhaitent à tous une bonne fin d’année.\nDépart de la place de la Mairie de Chambon à 8h25 pour covoiturage.
URL:http://courirmarcher.fr/event/09-12-2017-saint-pierre-de-maille-telethon-2017/
CATEGORIES:Randonnée
END:VEVENT
BEGIN:VEVENT
DTSTART;TZID=Europe/Paris:20171202T230000
DTEND;TZID=Europe/Paris:20171203T170000
DTSTAMP:20260420T122943
CREATED:20171030T232655Z
LAST-MODIFIED:20171031T204323Z
UID:229-1512255600-1512320400@courirmarcher.fr
SUMMARY:02/12/2017 - SaintéLyon 2017
DESCRIPTION:Avec plus de 63 hivers au compteur\, la Saintélyon est un monument de l’Histoire de la course à pied en France. \nAurore\, Arthur\, Anthony et Fabien ont rendez-vous le samedi 2 et dimanche 3 décembre 2017 pour cette 64ème édition de la Saintélyon. \nAu programme : \n\nSaintélyon (72km et 1730mD+) en solo pour Fabien ou relais de 2 pour Arthur et Anthony\n\nSaintexpress (44km et 950mD+) pour Aurore\n\nSaintesprint (22km et 400mD+)\nSaintetic (12km et 200mD+)\n\nInfos et inscriptions sur http://www.saintelyon.com/
URL:http://courirmarcher.fr/event/saintelyon-2017/
LOCATION:Halle Tony-Garnier 69007 Saint-Paul-de-Varax\, Halle Tony-Garnier\, Saint-Paul-de-Varax\, 69007\, France
CATEGORIES:Running
END:VEVENT
BEGIN:VEVENT
DTSTART;TZID=Europe/Paris:20171126T080000
DTEND;TZID=Europe/Paris:20171126T170000
DTSTAMP:20260420T122943
CREATED:20171119T144529Z
LAST-MODIFIED:20171119T150313Z
UID:310-1511683200-1511715600@courirmarcher.fr
SUMMARY:26/11/2017 - Trail de la Rose à Antran (86) - Trail
DESCRIPTION:Dernière sortie longue dans la préparation de la SaintéLyon. \nAurore sera inscrite sur le 19\,5 km de cette troisième édition du Trail de la Rose à Antran (86).
URL:http://courirmarcher.fr/event/26112017-trail-de-la-rose-a-antran-86-trail/
LOCATION:Antran\, Antran\, 86100\, France
CATEGORIES:Running
END:VEVENT
BEGIN:VEVENT
DTSTART;TZID=Europe/Paris:20171125T083000
DTEND;TZID=Europe/Paris:20171125T123000
DTSTAMP:20260420T122943
CREATED:20171102T233131Z
LAST-MODIFIED:20171119T143756Z
UID:279-1511598600-1511613000@courirmarcher.fr
SUMMARY:25/11/2017 - Lésigny ou Chambon - Rando
DESCRIPTION:Sortie de 8 ou 12 km à Lésigny ou à Chambon (à définir suivant les lieux de chasse). Départ à 9h.
URL:http://courirmarcher.fr/event/279/
CATEGORIES:Randonnée
ORGANIZER;CN="Courir Marcher dans le Sud Touraine":MAILTO:gagneuxn@yahoo.fr
END:VEVENT
BEGIN:VEVENT
DTSTART;TZID=Europe/Paris:20171118T083000
DTEND;TZID=Europe/Paris:20171118T130000
DTSTAMP:20260420T122943
CREATED:20171119T144132Z
LAST-MODIFIED:20171119T150346Z
UID:306-1510993800-1511010000@courirmarcher.fr
SUMMARY:18/11/2017 - Angles-sur-l'Anglin - Rando
DESCRIPTION:Randonnée à Angles-sur-l’Anglin (86). Départ à 8h30 devant la mairie de Chambon pour covoiturage ou devant le pont du village d’Angles-sur-l’Anglin. Au programme 10 km sur de beaux petits sentiers.
URL:http://courirmarcher.fr/event/18112017-angles-sur-langlin-rando/
LOCATION:Angles-sur-l’anglin\, Angles-sur-l'Anglin\, 86260\, France
CATEGORIES:Randonnée
ORGANIZER;CN="Courir Marcher dans le Sud Touraine":MAILTO:gagneuxn@yahoo.fr
END:VEVENT
BEGIN:VEVENT
DTSTART;TZID=Europe/Paris:20171111T080000
DTEND;TZID=Europe/Paris:20171111T170000
DTSTAMP:20260420T122943
CREATED:20171102T235310Z
LAST-MODIFIED:20171102T235936Z
UID:282-1510387200-1510419600@courirmarcher.fr
SUMMARY:11/11/2017 - Trail du Pastel - Trail
DESCRIPTION:Le trail du Pastel aura lieu le vendredi 10 novembre et le samedi 11 novembre 2017. \nAurore sera au départ du trail du pastel le samedi maton. \nAu programme du vendredi 10 novembre :\n20h00 : départ de la première partie du Pastel Extrême\, soit 22 km.\n20h00 : départ du Pastel Nocturne de 22 km.\n20h30 : départ de la Cocagne Nocturne de 18 km.\n21h00 : départ de l’Isatis nocturne de 14 km. \nAu programme du jeudi 11 novembre :\n09h00 : départ de la seconde partie du Pastel Extrême\, soit 22 km.\n09h00 : départ de l’épreuve Pastel (22 km).\n09h30 : départ de la Cocagne de 18 km.\n10h00 : départ de l’Isatis de 14 km.\n10h30 : départ de l’épreuve Pastel Nordique de 14 km chronométrée.\nVers 11h00 : départ de la course enfants. \nEt aussi une course enfants gratuite de 1 ou 2 km.
URL:http://courirmarcher.fr/event/11112017-trail-du-pastel-trail/
LOCATION:Balma – Haute Garonne
CATEGORIES:Running
END:VEVENT
BEGIN:VEVENT
DTSTART;TZID=Europe/Paris:20171105T080000
DTEND;TZID=Europe/Paris:20171105T130000
DTSTAMP:20260420T122943
CREATED:20171031T214843Z
LAST-MODIFIED:20171103T000748Z
UID:269-1509868800-1509886800@courirmarcher.fr
SUMMARY:05/11/2017 - TOURNON-SAINT-PIERRE - Rando
DESCRIPTION:Dans le cadre de la foire aux arbres\, deux randonnées sont organisées. Circuits 10 km – 15 km. \n\nDépart à la salle des Fêtes à Tournon-Saint-Pierre – 8h30 pour le 10 km et le 15 km.\nInscriptions à partir de 8h sur le parking de la Mairie.  Départ de Chambon devant la mairie à 7h45 pour covoiturage.\n3€50. Ravitaillement sur les 2 circuits. Renseignements : 02 54 37 50 02
URL:http://courirmarcher.fr/event/05112017-tournon-saint-pierre-rando/
LOCATION:Tournon-saint-Pierre 37\, Tournon-Saint-Pierre\, 37290\, France
CATEGORIES:Randonnée
END:VEVENT
BEGIN:VEVENT
DTSTART;TZID=Europe/Paris:20171101T141500
DTEND;TZID=Europe/Paris:20171101T170000
DTSTAMP:20260420T122943
CREATED:20171031T215537Z
LAST-MODIFIED:20171031T215537Z
UID:272-1509545700-1509555600@courirmarcher.fr
SUMMARY:01/11/2017 - CHAMBON - Rando
DESCRIPTION:Petite sortie pour se dégourdir les jambes dans la forêt de Chambon. \nAu programme\, une petite0 rando de 5.. 6 kms et une autre plus grande pour celles et ceux qui le souhaitent. \nRendez-vous à 14h15 en haut du Terrier Blanc.
URL:http://courirmarcher.fr/event/01112017-chambon-rando/
LOCATION:Chambon 37290\, lieu-dit « le Cormier »\, Chambon\, 37290\, France
CATEGORIES:Randonnée
ORGANIZER;CN="Courir Marcher dans le Sud Touraine":MAILTO:gagneuxn@yahoo.fr
END:VEVENT
BEGIN:VEVENT
DTSTART;TZID=Europe/Paris:20171028T083000
DTEND;TZID=Europe/Paris:20171028T130000
DTSTAMP:20260420T122943
CREATED:20171031T221004Z
LAST-MODIFIED:20171031T221005Z
UID:276-1509179400-1509195600@courirmarcher.fr
SUMMARY:28/10/2017 - TOURNON-SAINT-MARTIN - Rando
DESCRIPTION:Samedi 28 octobre\, rando à Tournon-Saint-Martin (36). Au programme : la vallée de la Creuse\, le château du Coudon\, le causse de Pouligny-saint-Pierre\, la Maison Neuve où aurait dormi une nuit Jeanne d’Arc et la vallée du Suin. \nRendez-vous à 8h35 devant la mairie de Chambon pour covoiturage ou 9h sur la place de l’Eglise à Tournon.
URL:http://courirmarcher.fr/event/28102017-tournon-saint-martin-rando/
LOCATION:Tournon-saint-Martin\, Tournon-Saint-Martin\, 36Rando\, France
CATEGORIES:Randonnée
ORGANIZER;CN="Courir Marcher dans le Sud Touraine":MAILTO:gagneuxn@yahoo.fr
END:VEVENT
BEGIN:VEVENT
DTSTART;TZID=Europe/Paris:20170910T093000
DTEND;TZID=Europe/Paris:20170910T170000
DTSTAMP:20260420T122943
CREATED:20170831T111912Z
LAST-MODIFIED:20170831T164617Z
UID:155-1505035800-1505062800@courirmarcher.fr
SUMMARY:10 / 09 / 2017 - Trail de l’étang du Louroux
DESCRIPTION:Le Trail de l’étang\, se déroulera le Dimanche 11 septembre 2016 à l’étang du Conseil Départemental du Louroux (37240). \nIl est organisé par la Mairie du Louroux en collaboration avec l’Amicale des Pompiers de Manthelan \nLe Trail est inscrit au sein des Courses Hors Stade\, du Comité Départemental \nTrails découverte de : 14 Km\, 6 Km\, 0\,9 Km et 0\,6 Km. Départ à partir de 9h30. \nPour s’inscrire en ligne \nLe lien faceboock \nContacts\nAssociation : Amicale des Pompiers de Manthelan \nEmail : trail.le.louroux@gmail.com \nTel : 0665342512 \nAdresse postale : Route de Bléré\, 37240 Manthelan
URL:http://courirmarcher.fr/event/trail-de-letang-du-louroux/
LOCATION:37240 Le Louroux\, Le Louroux\, 37240\, France
CATEGORIES:Running
END:VEVENT
BEGIN:VEVENT
DTSTART;TZID=Europe/Paris:20170910T080000
DTEND;TZID=Europe/Paris:20170910T170000
DTSTAMP:20260420T122943
CREATED:20170831T104318Z
LAST-MODIFIED:20170831T104318Z
UID:139-1505030400-1505062800@courirmarcher.fr
SUMMARY:Trail de l'étang en Rando
DESCRIPTION:10 / 09 / 2017 – Randonnée au Louroux dans le cadre du Trail de l’étang.\nDépart de Manthelan\, organisée par les baladins Lourousiens. \nCircuits 8 km – 12 km – 16 km. \nDépart place de la mairie à Manthelan – 9h30 pour le 8 km – 9h pour le 12 km – 8h30 pour le 16 km. \nInscriptions à partir de 8h sur le parking de la Mairie ou de la salle de faluns ou contacter M. USAL au 06.46.62.71.52 \n3€50 licenciés\, 4€ non-licenciées. Ravitaillement sur les 3 circuits. \nInfos par mail : usalg@aol.com
URL:http://courirmarcher.fr/event/trail-de-letang-en-rando/
LOCATION:37240 Le Louroux\, Le Louroux\, 37240\, France
CATEGORIES:Randonnée
ORGANIZER;CN="Les baladins":MAILTO:usalg@aol.com
END:VEVENT
BEGIN:VEVENT
DTSTART;TZID=Europe/Paris:20170903T090000
DTEND;TZID=Europe/Paris:20170903T120000
DTSTAMP:20260420T122943
CREATED:20170830T214814Z
LAST-MODIFIED:20170831T164527Z
UID:133-1504429200-1504440000@courirmarcher.fr
SUMMARY:03 / 09 / 2017 - CHAUMUSSAY - Randonnée "Fin d'Été"
DESCRIPTION:3 / 09 / 17 : CHAUMUSSAY – Randonnée « Fin d’Été »\nAssociation « Fêtes et Animations » – 02.47.94.54.05 – 02.47.94.54.11 – chaumussaymairie@orange.fr.\nRDV : Aire de Pique-Nique face à la Salle des Fêtes. Départ 9h00. 8 – 13 km. 3 € L – 3\,50 € NL. Ravitaillement sur le parcours. Verre de l’amitié à l’arrivée. Chiens tenus en laisse acceptés\nRendez-vous à 8h30 devant la mairie de Chambon pour covoiturage ou 9h à Chaumussay.
URL:http://courirmarcher.fr/event/chaumussay-randonnee-fin-dete/
LOCATION:Aire de Pique-Nique\, Chaumussay\, 37290\, France
CATEGORIES:Randonnée
ORGANIZER;CN="Association 'F%C3%AAtes et Animations'":MAILTO:chaumussaymairie@orange.fr
END:VEVENT
END:VCALENDAR